Package: fgsea Version: 1.33.2 Command: /Library/Frameworks/R.framework/Resources/bin/R CMD build --keep-empty-dirs --no-resave-data fgsea StartedAt: 2025-01-31 16:21:11 -0500 (Fri, 31 Jan 2025) EndedAt: 2025-01-31 16:24:02 -0500 (Fri, 31 Jan 2025) EllapsedTime: 172.0 seconds RetCode: 0 Status: OK PackageFile: fgsea_1.33.2.tar.gz PackageFileSize: 5.404 MiB