Package: fdrame Version: 1.79.0 Command: rm -rf fdrame.buildbin-libdir && mkdir fdrame.buildbin-libdir && E:\biocbuild\bbs-3.21-bioc\R\bin\R.exe CMD INSTALL --build --library=fdrame.buildbin-libdir fdrame_1.79.0.tar.gz StartedAt: 2025-02-01 07:12:24 -0500 (Sat, 01 Feb 2025) EndedAt: 2025-02-01 07:12:38 -0500 (Sat, 01 Feb 2025) EllapsedTime: 14.7 seconds RetCode: 0 Status: OK PackageFile: fdrame_1.79.0.zip PackageFileSize: 977.4 KiB