Package: fastreeR Version: 1.11.0 Command: /Library/Frameworks/R.framework/Resources/bin/R CMD build --keep-empty-dirs --no-resave-data fastreeR StartedAt: 2025-01-31 16:20:18 -0500 (Fri, 31 Jan 2025) EndedAt: 2025-01-31 16:20:44 -0500 (Fri, 31 Jan 2025) EllapsedTime: 26.3 seconds RetCode: 0 Status: OK PackageFile: fastreeR_1.11.0.tar.gz PackageFileSize: 2.082 MiB