Package: faers Version: 1.3.0 Command: /home/biocbuild/bbs-3.21-bioc/R/bin/R CMD check --install=check:faers.install-out.txt --library=/home/biocbuild/bbs-3.21-bioc/R/site-library --timings faers_1.3.0.tar.gz StartedAt: 2025-01-31 22:16:20 -0500 (Fri, 31 Jan 2025) EndedAt: 2025-01-31 22:17:26 -0500 (Fri, 31 Jan 2025) EllapsedTime: 66.1 seconds RetCode: 1 Status: ERROR CheckDir: faers.Rcheck Warnings: NA