Package: fabia Version: 2.53.0 Command: E:\biocbuild\bbs-3.21-bioc\R\bin\R.exe CMD check --no-multiarch --install=check:fabia.install-out.txt --library=E:\biocbuild\bbs-3.21-bioc\R\library --no-vignettes --timings fabia_2.53.0.tar.gz StartedAt: 2025-02-01 00:42:54 -0500 (Sat, 01 Feb 2025) EndedAt: 2025-02-01 00:44:29 -0500 (Sat, 01 Feb 2025) EllapsedTime: 95.1 seconds RetCode: 0 Status: WARNINGS CheckDir: fabia.Rcheck Warnings: 1