Package: fabia Version: 2.53.0 Command: /home/biocbuild/bbs-3.21-bioc/R/bin/R CMD build --keep-empty-dirs --no-resave-data fabia StartedAt: 2025-01-31 17:15:36 -0500 (Fri, 31 Jan 2025) EndedAt: 2025-01-31 17:15:54 -0500 (Fri, 31 Jan 2025) EllapsedTime: 18.0 seconds RetCode: 0 Status: OK PackageFile: fabia_2.53.0.tar.gz PackageFileSize: 800.7 KiB