Package: fabia Version: 2.53.0 Command: /Library/Frameworks/R.framework/Resources/bin/R CMD INSTALL fabia StartedAt: 2025-01-31 15:08:56 -0500 (Fri, 31 Jan 2025) EndedAt: 2025-01-31 15:09:27 -0500 (Fri, 31 Jan 2025) EllapsedTime: 31.2 seconds RetCode: 0 Status: OK