Package: fabia Version: 2.53.0 Command: /Library/Frameworks/R.framework/Resources/bin/R CMD check --install=check:fabia.install-out.txt --library=/Library/Frameworks/R.framework/Resources/library --no-vignettes --timings fabia_2.53.0.tar.gz StartedAt: 2025-01-31 19:13:07 -0500 (Fri, 31 Jan 2025) EndedAt: 2025-01-31 19:13:27 -0500 (Fri, 31 Jan 2025) EllapsedTime: 20.3 seconds RetCode: 0 Status: WARNINGS CheckDir: fabia.Rcheck Warnings: 2