Package: esATAC Version: 1.29.0 Command: rm -rf esATAC.buildbin-libdir && mkdir esATAC.buildbin-libdir && E:\biocbuild\bbs-3.21-bioc\R\bin\R.exe CMD INSTALL --build --library=esATAC.buildbin-libdir esATAC_1.29.0.tar.gz StartedAt: 2025-02-01 07:11:02 -0500 (Sat, 01 Feb 2025) EndedAt: 2025-02-01 07:13:33 -0500 (Sat, 01 Feb 2025) EllapsedTime: 151.2 seconds RetCode: 0 Status: OK PackageFile: esATAC_1.29.0.zip PackageFileSize: 8.525 MiB