Package: epivizrData Version: 1.35.0 Command: /home/biocbuild/bbs-3.21-bioc/R/bin/R CMD check --install=check:epivizrData.install-out.txt --library=/home/biocbuild/bbs-3.21-bioc/R/site-library --timings epivizrData_1.35.0.tar.gz StartedAt: 2025-01-31 22:08:56 -0500 (Fri, 31 Jan 2025) EndedAt: 2025-01-31 22:14:47 -0500 (Fri, 31 Jan 2025) EllapsedTime: 351.2 seconds RetCode: 0 Status: OK CheckDir: epivizrData.Rcheck Warnings: 0