Package: epistack Version: 1.13.0 Command: /home/biocbuild/bbs-3.21-bioc/R/bin/R CMD build --keep-empty-dirs --no-resave-data epistack StartedAt: 2025-02-02 17:06:18 -0500 (Sun, 02 Feb 2025) EndedAt: 2025-02-02 17:07:48 -0500 (Sun, 02 Feb 2025) EllapsedTime: 90.1 seconds RetCode: 0 Status: OK PackageFile: epistack_1.13.0.tar.gz PackageFileSize: 3.757 MiB