Package: epiregulon.extra Version: 1.3.1 Maintainer: Xiaosai Yao MaintainerEmail: xiaosai.yao at gmail.com git_url: https://git.bioconductor.org/packages/epiregulon.extra git_branch: devel git_last_commit: d642425 git_last_commit_date: 2025-01-16 22:12:59 -0500 (Thu, 16 Jan 2025)