Package: epigraHMM Version: 1.15.0 Command: E:\biocbuild\bbs-3.21-bioc\R\bin\R.exe CMD INSTALL epigraHMM StartedAt: 2025-01-31 16:51:13 -0500 (Fri, 31 Jan 2025) EndedAt: 2025-01-31 16:53:55 -0500 (Fri, 31 Jan 2025) EllapsedTime: 162.1 seconds RetCode: 0 Status: OK