Package: epialleleR Version: 1.15.1 Command: rm -rf epialleleR.buildbin-libdir && mkdir epialleleR.buildbin-libdir && E:\biocbuild\bbs-3.21-bioc\R\bin\R.exe CMD INSTALL --build --library=epialleleR.buildbin-libdir epialleleR_1.15.1.tar.gz StartedAt: 2025-02-01 07:09:37 -0500 (Sat, 01 Feb 2025) EndedAt: 2025-02-01 07:11:15 -0500 (Sat, 01 Feb 2025) EllapsedTime: 98.4 seconds RetCode: 0 Status: OK PackageFile: epialleleR_1.15.1.zip PackageFileSize: 7.415 MiB