Package: epialleleR Version: 1.15.1 Command: /Library/Frameworks/R.framework/Resources/bin/R CMD build --keep-empty-dirs --no-resave-data epialleleR StartedAt: 2025-01-31 16:16:27 -0500 (Fri, 31 Jan 2025) EndedAt: 2025-01-31 16:16:59 -0500 (Fri, 31 Jan 2025) EllapsedTime: 32.3 seconds RetCode: 0 Status: OK PackageFile: epialleleR_1.15.1.tar.gz PackageFileSize: 3.8 MiB