Package: ensembldb Version: 2.31.0 Command: /home/biocbuild/R/R/bin/R CMD check --install=check:ensembldb.install-out.txt --library=/home/biocbuild/R/R/site-library --no-vignettes --timings ensembldb_2.31.0.tar.gz StartedAt: 2025-01-28 10:17:35 -0000 (Tue, 28 Jan 2025) EndedAt: 2025-01-28 10:37:04 -0000 (Tue, 28 Jan 2025) EllapsedTime: 1168.4 seconds RetCode: 0 Status: OK CheckDir: ensembldb.Rcheck Warnings: 0