Package: edge Version: 2.39.0 Command: /Library/Frameworks/R.framework/Resources/bin/R CMD check --install=check:edge.install-out.txt --library=/Library/Frameworks/R.framework/Resources/library --no-vignettes --timings edge_2.39.0.tar.gz StartedAt: 2025-01-31 19:05:26 -0500 (Fri, 31 Jan 2025) EndedAt: 2025-01-31 19:06:33 -0500 (Fri, 31 Jan 2025) EllapsedTime: 66.8 seconds RetCode: 0 Status: OK CheckDir: edge.Rcheck Warnings: 0