Package: easyRNASeq Version: 2.43.0 Command: /Library/Frameworks/R.framework/Resources/bin/R CMD INSTALL easyRNASeq StartedAt: 2025-01-31 15:22:58 -0500 (Fri, 31 Jan 2025) EndedAt: 2025-01-31 15:23:55 -0500 (Fri, 31 Jan 2025) EllapsedTime: 57.6 seconds RetCode: 0 Status: OK