Package: easier Version: 1.13.0 Command: /home/biocbuild/R/R/bin/R CMD build --keep-empty-dirs --no-resave-data easier StartedAt: 2025-01-28 22:37:23 -0000 (Tue, 28 Jan 2025) EndedAt: 2025-01-28 22:44:52 -0000 (Tue, 28 Jan 2025) EllapsedTime: 449.2 seconds RetCode: 0 Status: OK PackageFile: easier_1.13.0.tar.gz PackageFileSize: 2.89 MiB