Package: easier Version: 1.13.0 Maintainer: Oscar Lapuente-Santana MaintainerEmail: o.lapuente.santana at tue.nl git_url: https://git.bioconductor.org/packages/easier git_branch: devel git_last_commit: 060a509 git_last_commit_date: 2024-10-29 11:06:43 -0500 (Tue, 29 Oct 2024)