Package: dupRadar Version: 1.37.0 Command: /home/biocbuild/bbs-3.21-bioc/R/bin/R CMD build --keep-empty-dirs --no-resave-data dupRadar StartedAt: 2025-01-31 17:07:34 -0500 (Fri, 31 Jan 2025) EndedAt: 2025-01-31 17:08:10 -0500 (Fri, 31 Jan 2025) EllapsedTime: 36.0 seconds RetCode: 0 Status: OK PackageFile: dupRadar_1.37.0.tar.gz PackageFileSize: 4.14 MiB