Package: drugTargetInteractions Version: 1.15.0 Command: /Library/Frameworks/R.framework/Resources/bin/R CMD INSTALL drugTargetInteractions StartedAt: 2025-01-31 15:13:28 -0500 (Fri, 31 Jan 2025) EndedAt: 2025-01-31 15:13:43 -0500 (Fri, 31 Jan 2025) EllapsedTime: 15.1 seconds RetCode: 0 Status: OK