Package: doubletrouble Version: 1.7.0 Command: /home/biocbuild/bbs-3.21-bioc/R/bin/R CMD check --install=check:doubletrouble.install-out.txt --library=/home/biocbuild/bbs-3.21-bioc/R/site-library --timings doubletrouble_1.7.0.tar.gz StartedAt: 2025-01-31 21:53:44 -0500 (Fri, 31 Jan 2025) EndedAt: 2025-01-31 21:59:27 -0500 (Fri, 31 Jan 2025) EllapsedTime: 343.4 seconds RetCode: 0 Status: OK CheckDir: doubletrouble.Rcheck Warnings: 0