Package: doseR Version: 1.23.0 Command: chmod a+r doseR -R && E:\biocbuild\bbs-3.21-bioc\R\bin\R.exe CMD build --keep-empty-dirs --no-resave-data doseR StartedAt: 2025-01-31 18:16:52 -0500 (Fri, 31 Jan 2025) EndedAt: 2025-01-31 18:17:36 -0500 (Fri, 31 Jan 2025) EllapsedTime: 44.1 seconds RetCode: 0 Status: OK PackageFile: doseR_1.23.0.tar.gz PackageFileSize: 948.4 KiB