Package: doppelgangR Version: 1.35.0 Command: E:\biocbuild\bbs-3.21-bioc\R\bin\R.exe CMD check --no-multiarch --install=check:doppelgangR.install-out.txt --library=E:\biocbuild\bbs-3.21-bioc\R\library --no-vignettes --timings doppelgangR_1.35.0.tar.gz StartedAt: 2025-02-03 00:31:20 -0500 (Mon, 03 Feb 2025) EndedAt: 2025-02-03 00:44:01 -0500 (Mon, 03 Feb 2025) EllapsedTime: 761.2 seconds RetCode: 0 Status: OK CheckDir: doppelgangR.Rcheck Warnings: 0