Package: doppelgangR Version: 1.35.0 Command: /home/biocbuild/bbs-3.21-bioc/R/bin/R CMD check --install=check:doppelgangR.install-out.txt --library=/home/biocbuild/bbs-3.21-bioc/R/site-library --timings doppelgangR_1.35.0.tar.gz StartedAt: 2025-02-02 21:47:29 -0500 (Sun, 02 Feb 2025) EndedAt: 2025-02-02 21:52:29 -0500 (Sun, 02 Feb 2025) EllapsedTime: 299.4 seconds RetCode: 0 Status: OK CheckDir: doppelgangR.Rcheck Warnings: 0