Package: doppelgangR Version: 1.35.0 Command: /home/biocbuild/bbs-3.21-bioc/R/bin/R CMD build --keep-empty-dirs --no-resave-data doppelgangR StartedAt: 2025-02-02 17:00:28 -0500 (Sun, 02 Feb 2025) EndedAt: 2025-02-02 17:01:38 -0500 (Sun, 02 Feb 2025) EllapsedTime: 70.1 seconds RetCode: 0 Status: OK PackageFile: doppelgangR_1.35.0.tar.gz PackageFileSize: 457.6 KiB