Package: doppelgangR Version: 1.35.0 Command: rm -rf doppelgangR.buildbin-libdir && mkdir doppelgangR.buildbin-libdir && /Users/biocbuild/BBS/utils/build-universal.sh doppelgangR_1.35.0.tar.gz /Library/Frameworks/R.framework/Resources/bin/R doppelgangR.buildbin-libdir StartedAt: 2025-02-03 00:21:11 -0500 (Mon, 03 Feb 2025) EndedAt: 2025-02-03 00:21:56 -0500 (Mon, 03 Feb 2025) EllapsedTime: 45.2 seconds RetCode: 0 Status: OK PackageFile: doppelgangR_1.35.0.tgz PackageFileSize: 938.9 KiB