Package: doppelgangR Version: 1.35.0 Command: /home/biocbuild/R/R/bin/R CMD build --keep-empty-dirs --no-resave-data doppelgangR StartedAt: 2025-01-28 22:34:24 -0000 (Tue, 28 Jan 2025) EndedAt: 2025-01-28 22:36:56 -0000 (Tue, 28 Jan 2025) EllapsedTime: 152.1 seconds RetCode: 0 Status: OK PackageFile: doppelgangR_1.35.0.tar.gz PackageFileSize: 378.3 KiB