Package: doppelgangR Version: 1.35.0 Command: /Library/Frameworks/R.framework/Resources/bin/R CMD INSTALL doppelgangR StartedAt: 2025-01-31 15:20:15 -0500 (Fri, 31 Jan 2025) EndedAt: 2025-01-31 15:20:27 -0500 (Fri, 31 Jan 2025) EllapsedTime: 12.1 seconds RetCode: 0 Status: OK