Package: dittoSeq Version: 1.19.0 Command: /Library/Frameworks/R.framework/Resources/bin/R CMD INSTALL dittoSeq StartedAt: 2025-01-31 15:15:18 -0500 (Fri, 31 Jan 2025) EndedAt: 2025-01-31 15:16:03 -0500 (Fri, 31 Jan 2025) EllapsedTime: 44.7 seconds RetCode: 0 Status: OK