Package: dittoSeq Version: 1.19.0 Command: /Library/Frameworks/R.framework/Resources/bin/R CMD check --install=check:dittoSeq.install-out.txt --library=/Library/Frameworks/R.framework/Resources/library --no-vignettes --timings dittoSeq_1.19.0.tar.gz StartedAt: 2025-01-31 20:02:12 -0500 (Fri, 31 Jan 2025) EndedAt: 2025-01-31 20:09:36 -0500 (Fri, 31 Jan 2025) EllapsedTime: 443.3 seconds RetCode: 0 Status: OK CheckDir: dittoSeq.Rcheck Warnings: 0