Package: dinoR Version: 1.3.0 Command: /Library/Frameworks/R.framework/Resources/bin/R CMD INSTALL dinoR StartedAt: 2025-01-31 15:14:08 -0500 (Fri, 31 Jan 2025) EndedAt: 2025-01-31 15:14:19 -0500 (Fri, 31 Jan 2025) EllapsedTime: 11.1 seconds RetCode: 0 Status: OK