Package: diffcoexp Version: 1.27.0 Command: E:\biocbuild\bbs-3.21-bioc\R\bin\R.exe CMD INSTALL diffcoexp StartedAt: 2025-01-31 16:33:44 -0500 (Fri, 31 Jan 2025) EndedAt: 2025-01-31 16:34:19 -0500 (Fri, 31 Jan 2025) EllapsedTime: 35.3 seconds RetCode: 0 Status: OK