Package: diffcoexp Version: 1.27.0 Command: chmod a+r diffcoexp -R && E:\biocbuild\bbs-3.21-bioc\R\bin\R.exe CMD build --keep-empty-dirs --no-resave-data diffcoexp StartedAt: 2025-01-31 18:12:05 -0500 (Fri, 31 Jan 2025) EndedAt: 2025-01-31 18:13:02 -0500 (Fri, 31 Jan 2025) EllapsedTime: 57.4 seconds RetCode: 0 Status: OK PackageFile: diffcoexp_1.27.0.tar.gz PackageFileSize: 129.9 KiB