Package: diffcoexp Version: 1.27.0 Command: rm -rf diffcoexp.buildbin-libdir && mkdir diffcoexp.buildbin-libdir && E:\biocbuild\bbs-3.21-bioc\R\bin\R.exe CMD INSTALL --build --library=diffcoexp.buildbin-libdir diffcoexp_1.27.0.tar.gz StartedAt: 2025-02-01 07:05:29 -0500 (Sat, 01 Feb 2025) EndedAt: 2025-02-01 07:06:08 -0500 (Sat, 01 Feb 2025) EllapsedTime: 39.1 seconds RetCode: 0 Status: OK PackageFile: diffcoexp_1.27.0.zip PackageFileSize: 158.3 KiB