Package: diffGeneAnalysis Version: 1.89.0 Command: /Library/Frameworks/R.framework/Resources/bin/R CMD INSTALL diffGeneAnalysis StartedAt: 2025-01-31 15:09:22 -0500 (Fri, 31 Jan 2025) EndedAt: 2025-01-31 15:09:43 -0500 (Fri, 31 Jan 2025) EllapsedTime: 21.2 seconds RetCode: 0 Status: OK