Package: derfinder Version: 1.41.0 Command: /Library/Frameworks/R.framework/Resources/bin/R CMD build --keep-empty-dirs --no-resave-data derfinder StartedAt: 2025-01-31 16:09:09 -0500 (Fri, 31 Jan 2025) EndedAt: 2025-01-31 16:10:54 -0500 (Fri, 31 Jan 2025) EllapsedTime: 105.1 seconds RetCode: 0 Status: OK PackageFile: derfinder_1.41.0.tar.gz PackageFileSize: 2.011 MiB