Package: demuxSNP Version: 1.5.0 Command: E:\biocbuild\bbs-3.21-bioc\R\bin\R.exe CMD check --no-multiarch --install=check:demuxSNP.install-out.txt --library=E:\biocbuild\bbs-3.21-bioc\R\library --no-vignettes --timings demuxSNP_1.5.0.tar.gz StartedAt: 2025-02-01 00:06:14 -0500 (Sat, 01 Feb 2025) EndedAt: 2025-02-01 00:17:33 -0500 (Sat, 01 Feb 2025) EllapsedTime: 679.4 seconds RetCode: 0 Status: OK CheckDir: demuxSNP.Rcheck Warnings: 0