Package: demuxSNP Version: 1.5.0 Command: /home/biocbuild/bbs-3.21-bioc/R/bin/R CMD check --install=check:demuxSNP.install-out.txt --library=/home/biocbuild/bbs-3.21-bioc/R/site-library --timings demuxSNP_1.5.0.tar.gz StartedAt: 2025-02-02 21:33:56 -0500 (Sun, 02 Feb 2025) EndedAt: 2025-02-02 21:44:22 -0500 (Sun, 02 Feb 2025) EllapsedTime: 625.8 seconds RetCode: 0 Status: OK CheckDir: demuxSNP.Rcheck Warnings: 0