Package: deepSNV Version: 1.53.0 Command: /Library/Frameworks/R.framework/Resources/bin/R CMD check --install=check:deepSNV.install-out.txt --library=/Library/Frameworks/R.framework/Resources/library --no-vignettes --timings deepSNV_1.53.0.tar.gz StartedAt: 2025-01-31 18:53:36 -0500 (Fri, 31 Jan 2025) EndedAt: 2025-01-31 18:55:42 -0500 (Fri, 31 Jan 2025) EllapsedTime: 126.4 seconds RetCode: 0 Status: OK CheckDir: deepSNV.Rcheck Warnings: 0