Package: deconvR Version: 1.13.0 Command: /Library/Frameworks/R.framework/Resources/bin/R CMD check --install=check:deconvR.install-out.txt --library=/Library/Frameworks/R.framework/Resources/library --no-vignettes --timings deconvR_1.13.0.tar.gz StartedAt: 2025-01-31 19:51:30 -0500 (Fri, 31 Jan 2025) EndedAt: 2025-01-31 20:06:11 -0500 (Fri, 31 Jan 2025) EllapsedTime: 881.3 seconds RetCode: 0 Status: OK CheckDir: deconvR.Rcheck Warnings: 0