Package: deconvR Version: 1.13.0 Command: /home/biocbuild/R/R/bin/R CMD INSTALL deconvR StartedAt: 2025-01-29 20:33:09 -0000 (Wed, 29 Jan 2025) EndedAt: 2025-01-29 20:34:20 -0000 (Wed, 29 Jan 2025) EllapsedTime: 70.8 seconds RetCode: 0 Status: OK