Package: decompTumor2Sig Version: 2.23.0 Command: /Library/Frameworks/R.framework/Resources/bin/R CMD check --install=check:decompTumor2Sig.install-out.txt --library=/Library/Frameworks/R.framework/Resources/library --no-vignettes --timings decompTumor2Sig_2.23.0.tar.gz StartedAt: 2025-01-31 19:51:21 -0500 (Fri, 31 Jan 2025) EndedAt: 2025-01-31 19:58:34 -0500 (Fri, 31 Jan 2025) EllapsedTime: 433.7 seconds RetCode: 0 Status: OK CheckDir: decompTumor2Sig.Rcheck Warnings: 0