Package: decompTumor2Sig Version: 2.23.0 Command: rm -rf decompTumor2Sig.buildbin-libdir && mkdir decompTumor2Sig.buildbin-libdir && /Users/biocbuild/BBS/utils/build-universal.sh decompTumor2Sig_2.23.0.tar.gz /Library/Frameworks/R.framework/Resources/bin/R decompTumor2Sig.buildbin-libdir StartedAt: 2025-02-01 00:14:06 -0500 (Sat, 01 Feb 2025) EndedAt: 2025-02-01 00:15:03 -0500 (Sat, 01 Feb 2025) EllapsedTime: 57.6 seconds RetCode: 0 Status: OK PackageFile: decompTumor2Sig_2.23.0.tgz PackageFileSize: 2.762 MiB