Package: decompTumor2Sig Version: 2.23.0 Command: /home/biocbuild/R/R/bin/R CMD check --install=check:decompTumor2Sig.install-out.txt --library=/home/biocbuild/R/R/site-library --no-vignettes --timings decompTumor2Sig_2.23.0.tar.gz StartedAt: 2025-01-28 09:46:38 -0000 (Tue, 28 Jan 2025) EndedAt: 2025-01-28 09:55:58 -0000 (Tue, 28 Jan 2025) EllapsedTime: 559.5 seconds RetCode: 0 Status: OK CheckDir: decompTumor2Sig.Rcheck Warnings: 0