Package: debCAM Version: 1.25.0 Command: E:\biocbuild\bbs-3.21-bioc\R\bin\R.exe CMD INSTALL debCAM StartedAt: 2025-01-31 16:22:55 -0500 (Fri, 31 Jan 2025) EndedAt: 2025-01-31 16:23:16 -0500 (Fri, 31 Jan 2025) EllapsedTime: 20.9 seconds RetCode: 0 Status: OK