Package: ddCt Version: 1.63.0 Command: /home/biocbuild/R/R/bin/R CMD INSTALL ddCt StartedAt: 2025-01-29 19:35:27 -0000 (Wed, 29 Jan 2025) EndedAt: 2025-01-29 19:35:53 -0000 (Wed, 29 Jan 2025) EllapsedTime: 25.7 seconds RetCode: 0 Status: OK