Package: dar Version: 1.3.0 Command: /Library/Frameworks/R.framework/Resources/bin/R CMD INSTALL dar StartedAt: 2025-01-31 15:25:17 -0500 (Fri, 31 Jan 2025) EndedAt: 2025-01-31 15:25:26 -0500 (Fri, 31 Jan 2025) EllapsedTime: 8.5 seconds RetCode: 0 Status: OK