Package: dada2 Version: 1.35.0 Command: /Library/Frameworks/R.framework/Resources/bin/R CMD check --install=check:dada2.install-out.txt --library=/Library/Frameworks/R.framework/Resources/library --no-vignettes --timings dada2_1.35.0.tar.gz StartedAt: 2025-01-31 18:50:41 -0500 (Fri, 31 Jan 2025) EndedAt: 2025-01-31 18:52:22 -0500 (Fri, 31 Jan 2025) EllapsedTime: 100.2 seconds RetCode: 0 Status: WARNINGS CheckDir: dada2.Rcheck Warnings: 1